BEGIN:VCALENDAR
PRODID:-//eluceo/ical//2.0/EN
VERSION:2.0
CALSCALE:GREGORIAN
BEGIN:VEVENT
UID:a61b4f8783a785fb67d742b39c67bfef
DTSTAMP:20260420T083947Z
SUMMARY:Daniel\, A Man of all Times - A Lunch and Learn with Ruth Breindel
DESCRIPTION:Jewish Federation of the Berkshires\nBerkshire Jewish Community
  Calendar\nhttps://jewishberkshires.org/jewish-federation-of-the-berkshire
 s-calendar/daniel-a-man-of-all-times---a-lunch-and-learn-with-ruth-breinde
 l\n\nDaniel\, A Man of all Times - With Ruth Breindel
DTSTART;TZID=America/New_York:20130711T120000
DTEND;TZID=America/New_York:20130711T133000
END:VEVENT
END:VCALENDAR
