BEGIN:VCALENDAR
PRODID:-//eluceo/ical//2.0/EN
VERSION:2.0
CALSCALE:GREGORIAN
BEGIN:VEVENT
UID:d2e03bd19e5b0f5aeb2828a6f078f2b6
DTSTAMP:20260421T190730Z
SUMMARY:Current Events Seminar with Professor Steven Rubin
DESCRIPTION:Jewish Federation of the Berkshires\nBerkshire Jewish Community
  Calendar\nhttps://jewishberkshires.org/jewish-federation-of-the-berkshire
 s-calendar/current-events-seminar-with-professor-steven-rubin-may-4\n\nThe
  Current Events Seminar will focus on the latest world happenings. Partici
 pants will have an opportunity to examine and discuss topical and newswort
 hy national and international issues\, problems\, and possible solutions. 
 For each session\, the moderator will suggest readings\, introduce relevan
 t topics\, and offer discussion questions. The seminar will be conducted t
 hroughout in a collaborative and collegial manner\, with all participants 
 encouraged to voice their opinions.\n\nSteve Rubin\, Ph.D...
DTSTART;TZID=America/New_York:20230504T104500
DTEND;TZID=America/New_York:20230504T114500
END:VEVENT
END:VCALENDAR
