BEGIN:VCALENDAR
PRODID:-//eluceo/ical//2.0/EN
VERSION:2.0
CALSCALE:GREGORIAN
BEGIN:VEVENT
UID:71871032fbcf10b5f95fc784ea729a58
DTSTAMP:20260419T150128Z
SUMMARY:Current Affairs: Contemporary American and International Politics
DESCRIPTION:Jewish Federation of the Berkshires\nBerkshire Jewish Community
  Calendar\nhttps://jewishberkshires.org/jewish-federation-of-the-berkshire
 s-calendar/current-affairs-contemporary-american-and-international-politic
 s\n\nThe Jewish Federation Connecting with Community presents "Current Aff
 airs: Topics in Contemporary American and International Politics." 
DTSTART;TZID=America/New_York:20180802T104500
DTEND;TZID=America/New_York:20180802T120000
END:VEVENT
END:VCALENDAR
