BEGIN:VCALENDAR
PRODID:-//eluceo/ical//2.0/EN
VERSION:2.0
CALSCALE:GREGORIAN
BEGIN:VEVENT
UID:1fec5049610b5ddfd32eff50cc963b24
DTSTAMP:20260422T031504Z
SUMMARY:Culture and Conversation
DESCRIPTION:Jewish Federation of the Berkshires\nBerkshire Jewish Community
  Calendar\nhttps://jewishberkshires.org/jewish-federation-of-the-berkshire
 s-calendar/culture-and-conversation-1642448342\n\nFebruary 9th at 4:30 pm:
  Interview with Danielle Friedman award-winning journalist and author of 
 “Let’s Get Physical”\n\nMs. Friedman's book\, which the New York Tim
 es described as “fact-packed and bouncy\,” reveals the fascinating hid
 den history of contemporary women’s fitness culture and how exercise evo
 lved from a beauty tool “pitched” to lose weight to today’s view whe
 reby exercise is accepted as a path to mental\, emotional\, and physical w
 ell-being. \n\nMarch 9th at 4:30...
DTSTART;TZID=America/New_York:20220209T163000
DTEND;TZID=America/New_York:20220209T173000
END:VEVENT
END:VCALENDAR
