BEGIN:VCALENDAR
PRODID:-//eluceo/ical//2.0/EN
VERSION:2.0
CALSCALE:GREGORIAN
BEGIN:VEVENT
UID:fc412109a42f3bb8eecd588eda83e9ea
DTSTAMP:20260421T042243Z
SUMMARY:Creative Arts Panel with CAS Creative Arts Team
DESCRIPTION:Jewish Federation of the Berkshires\nBerkshire Jewish Community
  Calendar\nhttps://jewishberkshires.org/jewish-federation-of-the-berkshire
 s-calendar/creative-arts-panel-1679752740\n\nCongregation Ahavath Sholom w
 ill host a discussion on the creative arts and the creative process. Admis
 sion is free. Visit www.ahavathsholom.com for more information.
DTSTART;TZID=America/New_York:20230507T110000
DTEND;TZID=America/New_York:20230507T123000
END:VEVENT
END:VCALENDAR
