BEGIN:VCALENDAR
PRODID:-//eluceo/ical//2.0/EN
VERSION:2.0
CALSCALE:GREGORIAN
BEGIN:VEVENT
UID:f2e185c1fc71b2b350a90609e59db3cb
DTSTAMP:20260424T034900Z
SUMMARY:Created Equal:  Short Plays by Jesse Waldinger
DESCRIPTION:Jewish Federation of the Berkshires\nBerkshire Jewish Community
  Calendar\nhttps://jewishberkshires.org/jewish-federation-of-the-berkshire
 s-calendar/created-equal--short-plays-by-jesse-waldinger-1478640198\n\nAn 
 evening of short plays by Jesse Waldinger\, exploring struggles against op
 pression in American history.  The staged readings\, featuring profession
 al actors\, directed by Dr. Barbara Waldinger\, dramatize George Washingto
 n's post-war attempt to retrieve his human "property"\, the divorce of Sha
 kespearean actress Fanny Kemble\, the fate of the slave who survived the A
 lamo\, and the friendship between a prominent rabbi and the anti-Semite He
 nry Ford. Co-sponsored by Temple Anshe Amunim and Congre...
DTSTART;TZID=America/New_York:20170821T190000
DTEND;TZID=America/New_York:20170821T203000
END:VEVENT
END:VCALENDAR
