BEGIN:VCALENDAR
PRODID:-//eluceo/ical//2.0/EN
VERSION:2.0
CALSCALE:GREGORIAN
BEGIN:VEVENT
UID:a49aac6425949346083058f46fb4fbc0
DTSTAMP:20260425T112730Z
SUMMARY:Crane Paper Mills: The Inner Workings from the 19th Century to Toda
 y
DESCRIPTION:Jewish Federation of the Berkshires\nBerkshire Jewish Community
  Calendar\nhttps://jewishberkshires.org/jewish-federation-of-the-berkshire
 s-calendar/crane-paper-mills-the-inner-workings-from-the-19th-century-to-t
 oday\n\nThe Jewish Federation of the Berkshires Connecting with Community 
 presents "Crane Paper Mills: The Inner Workings from the 19th century to T
 oday" with Peter Hopkins\, director of Crane Museum of Papermaking in Dalt
 on.  
DTSTART;TZID=America/New_York:20160425T104500
DTEND;TZID=America/New_York:20160425T120000
END:VEVENT
END:VCALENDAR
