BEGIN:VCALENDAR
PRODID:-//eluceo/ical//2.0/EN
VERSION:2.0
CALSCALE:GREGORIAN
BEGIN:VEVENT
UID:e5245c8bf67a54c1a9e49c97fc5a5aca
DTSTAMP:20260423T161847Z
SUMMARY:Corrupting Influence of Materialism in Plays by Arthur Miller & Dav
 id Mamet
DESCRIPTION:Jewish Federation of the Berkshires\nBerkshire Jewish Community
  Calendar\nhttps://jewishberkshires.org/jewish-federation-of-the-berkshire
 s-calendar/corrupting-influence-of-materialism-in-plays-by-arthur-miller--
 david-mamet-1465845818\n\nIn this four-week course\, participants will dis
 cuss Arthur Miller's The Price (1968) and David Mamet's Glengarry Glen Ros
 s (1983). Led by Dr. Barbara Waldinger\, Professor of Theater at Queens Co
 llege in New York City and Artistic Director of the HRC Showcase Theatre i
 n Hudson\, New York. Admission: Members $40\, Non-Members $45 for 4 sessio
 ns or $15 per session
DTSTART;TZID=America/New_York:20160705T100000
DTEND;TZID=America/New_York:20160705T120000
END:VEVENT
END:VCALENDAR
