BEGIN:VCALENDAR
PRODID:-//eluceo/ical//2.0/EN
VERSION:2.0
CALSCALE:GREGORIAN
BEGIN:VEVENT
UID:c85451c1c19ce780e5ec2b081d1a2516
DTSTAMP:20260419T213725Z
SUMMARY:Conversational Hebrew
DESCRIPTION:Jewish Federation of the Berkshires\nBerkshire Jewish Community
  Calendar\nhttps://jewishberkshires.org/jewish-federation-of-the-berkshire
 s-calendar/conversational-hebrew-1428413133\n\nLearn to speak Hebrew from 
 a native Israeli\, expand your vocabulary and improve your conversational 
 skills. Topics will include: weather\, food\, directions\, shopping\, rest
 aurants\, recipes and much more. The ability to read Hebrew is required.
DTSTART;TZID=America/New_York:20150610T140000
DTEND;TZID=America/New_York:20150610T150000
END:VEVENT
END:VCALENDAR
