BEGIN:VCALENDAR
PRODID:-//eluceo/ical//2.0/EN
VERSION:2.0
CALSCALE:GREGORIAN
BEGIN:VEVENT
UID:e4bc723084296e82156960e93d036943
DTSTAMP:20260422T025927Z
SUMMARY:Contemporary Fiction
DESCRIPTION:Jewish Federation of the Berkshires\nBerkshire Jewish Community
  Calendar\nhttps://jewishberkshires.org/jewish-federation-of-the-berkshire
 s-calendar/contemporary-fiction\n\nThe Jewish Federation Connecting with C
 ommunity presents "Contemporary Fiction: Illuminating our World\, Explorin
 g our Roles\, Offering Hope" with Ellen Meeropol.
DTSTART;TZID=America/New_York:20180524T104500
DTEND;TZID=America/New_York:20180524T120000
END:VEVENT
END:VCALENDAR
