BEGIN:VCALENDAR
PRODID:-//eluceo/ical//2.0/EN
VERSION:2.0
CALSCALE:GREGORIAN
BEGIN:VEVENT
UID:96fd1c72225439bbdc5abc55129b37db
DTSTAMP:20260424T114210Z
SUMMARY:Confessions of a Yiddish Writer: The Life and Work of Chava Rosenfa
 rb
DESCRIPTION:Jewish Federation of the Berkshires\nBerkshire Jewish Community
  Calendar\nhttps://jewishberkshires.org/jewish-federation-of-the-berkshire
 s-calendar/confessions-of-a-yiddish-writer-the-life-and-work-of-chava-rose
 nfarb-1701446317\n\nIn this new online course\, participants will learn ab
 out Chava Rosenfarb\, a major Yiddish novelist\, essayist\, and short stor
 y writer\, who was one of the few writers to compose fiction about the Hol
 ocaust in Yiddish. A survivor of Auschwitz and Bergen-Belson\, her works r
 emain essential reading on World War II-era and postwar Jewish life. This 
 course is taught by Seb Schulman\, director of special projects and partne
 rships at the Yiddish Book Center\, and Rosenfarb’s daugther and transla
 tor\, Go...
DTSTART;TZID=America/New_York:20240131T190000
DTEND;TZID=America/New_York:20240131T203000
END:VEVENT
END:VCALENDAR
