BEGIN:VCALENDAR
PRODID:-//eluceo/ical//2.0/EN
VERSION:2.0
CALSCALE:GREGORIAN
BEGIN:VEVENT
UID:e9b43c458d76a0459ac70e6a15e91799
DTSTAMP:20260421T205955Z
SUMMARY:Concert: The Klezmer Conservatory Band
DESCRIPTION:Jewish Federation of the Berkshires\nBerkshire Jewish Community
  Calendar\nhttps://jewishberkshires.org/jewish-federation-of-the-berkshire
 s-calendar/concert-the-klezmer-conservatory-band-1457118374\n\nThe Joan A.
  Backman Memorial ConcertFor more than thirty-five years\, the Klezmer Con
 servatory Band has been the preeminent group of the klezmer revival. Led b
 y multi-instrumentalist and scholar Hankus Netsky\, the group entertains w
 ith classic tunes from the Yiddish theater repertoire as well as Yiddish s
 wing and Hasidic tunes. The KCB is joined by special guest vocalists Elean
 or Reissa and Lorin Sklamberg\, as well as founding member Frank London.Ma
 de possible by Irving and Charlotte Backman\, ...
DTSTART;TZID=America/New_York:20160714T200000
DTEND;TZID=America/New_York:20160714T220000
END:VEVENT
END:VCALENDAR
