BEGIN:VCALENDAR
PRODID:-//eluceo/ical//2.0/EN
VERSION:2.0
CALSCALE:GREGORIAN
BEGIN:VEVENT
UID:0092feb5dff4dc99f022c6a19742ebae
DTSTAMP:20260422T141235Z
SUMMARY:Concert: “The Klezmatics\, with special guest Vira Lozinsky”
DESCRIPTION:Jewish Federation of the Berkshires\nBerkshire Jewish Community
  Calendar\nhttps://jewishberkshires.org/jewish-federation-of-the-berkshire
 s-calendar/concert-the-klezmatics-with-special-guest-vira-lozinsky-1555521
 519\n\nThe Bernard and Reva Broder Memorial Concert | The Klezmatics blend
  instrumental and vocal virtuosity and experimentation with theatricality 
 firmly rooted in klezmer and Yiddish tradition.
DTSTART;TZID=America/New_York:20190714T193000
DTEND;TZID=America/New_York:20190714T210000
END:VEVENT
END:VCALENDAR
