BEGIN:VCALENDAR
PRODID:-//eluceo/ical//2.0/EN
VERSION:2.0
CALSCALE:GREGORIAN
BEGIN:VEVENT
UID:724e596bc49b4bdac0072dfddfceef96
DTSTAMP:20260420T143228Z
SUMMARY:Concert: The Adaskin String Trio and Special Guests
DESCRIPTION:Jewish Federation of the Berkshires\nBerkshire Jewish Community
  Calendar\nhttps://jewishberkshires.org/jewish-federation-of-the-berkshire
 s-calendar/concert-the-adaskin-string-trio-and-special-guests-1447434890\n
 \nMohawk Trail Concerts presents the Adaskin String Trio\, with guests Pas
 cal Archer\, clarinet\, and Annie Trepannier\, violin\, in a program featu
 ring 'The Dreams and Prayers of Isaac the Blind'\, for string quartet and 
 klezmer clarinet\, by Oswaldo Golijov. The performance will be preceded by
  an informative talk on the piece by Zeke Hecker\, much-loved writer of th
 e program notes for the MTC summer concert series. Also on the program is 
 Mozart's Clarinet Quintet\, K. 581.
DTSTART;TZID=America/New_York:20151122T140000
DTEND;TZID=America/New_York:20151122T154500
END:VEVENT
END:VCALENDAR
