BEGIN:VCALENDAR
PRODID:-//eluceo/ical//2.0/EN
VERSION:2.0
CALSCALE:GREGORIAN
BEGIN:VEVENT
UID:9b9ef02965382487ff92f85dba808792
DTSTAMP:20260422T032324Z
SUMMARY:Concert: Sklamberg & The Shepherds
DESCRIPTION:Jewish Federation of the Berkshires\nBerkshire Jewish Community
  Calendar\nhttps://jewishberkshires.org/jewish-federation-of-the-berkshire
 s-calendar/concert-sklamberg--the-shepherds-1457118716\n\nSklamberg & the 
 Shepherds brings together three of the world's leading performers of tradi
 tional Eastern European Jewish music: Merlin Shepherd\, whose great-grandp
 arents emigrated from Ukraine and Romania to escape pogroms and seek a bet
 ter world in Europe (Merlin grew up in Wales)\; Lorin Sklamberg\, whose an
 cestors emigrated from a small town in Ukraine to the United States\; and 
 Polina Shepherd\, whose grandparents escaped the Holocaust by fleeing from
  Kiev and Odessa to Siberia\, where she gre...
DTSTART;TZID=America/New_York:20160715T173000
DTEND;TZID=America/New_York:20160715T193000
END:VEVENT
END:VCALENDAR
