BEGIN:VCALENDAR
PRODID:-//eluceo/ical//2.0/EN
VERSION:2.0
CALSCALE:GREGORIAN
BEGIN:VEVENT
UID:6512a04f2799c03d624f19abfd48aee1
DTSTAMP:20260424T052451Z
SUMMARY:Concert: Paul Shapiro's Ribs & Brisket Revue
DESCRIPTION:Jewish Federation of the Berkshires\nBerkshire Jewish Community
  Calendar\nhttps://jewishberkshires.org/jewish-federation-of-the-berkshire
 s-calendar/concert-paul-shapiros-ribs--brisket-revue-1457119031\n\nThe Ber
 nard and Reva Broder Memorial ConcertWith his Ribs & Brisket Revue\, saxop
 honist/bandleader Paul Shapiro explores the unique Yiddish-jazz repertoire
  of the 1940s\, featuring songs mostly about food and mostly by the non-Je
 wish likes of Slim Gaillard\, Mildred Bailey\, Cab Calloway\, and Peggy Le
 e. There are plenty of bagels\, matzo balls\, and gefilte fish in these tu
 nes\, given a contemporary twist by Shapiro and his R&B-fueled outfit.Yidd
 ish Book Center Members: $28 General Admission: $35
DTSTART;TZID=America/New_York:20160717T120000
DTEND;TZID=America/New_York:20160717T140000
END:VEVENT
END:VCALENDAR
