BEGIN:VCALENDAR
PRODID:-//eluceo/ical//2.0/EN
VERSION:2.0
CALSCALE:GREGORIAN
BEGIN:VEVENT
UID:e3e8141d5371e4ed511e0d496bfb8526
DTSTAMP:20260421T052705Z
SUMMARY:Concert Midwood
DESCRIPTION:Jewish Federation of the Berkshires\nBerkshire Jewish Community
  Calendar\nhttps://jewishberkshires.org/jewish-federation-of-the-berkshire
 s-calendar/concert-midwood-1686163299\n\nLed by violinist Jake Shulman-Men
 t\, Midwood is a contemporary klezmer/rock celebration of freedom and the 
 Jewish tradition of wandering and migration. The band features some of the
  most exciting young performers on the international world music stage\, i
 ncluding vocalist/multi-instrumentalist Eleonore Weill\, guitarist Yoshie 
 Fruchter\, and drummer Richie Barshay.
DTSTART;TZID=America/New_York:20230716T120000
DTEND;TZID=America/New_York:20230716T130000
END:VEVENT
END:VCALENDAR
