BEGIN:VCALENDAR
PRODID:-//eluceo/ical//2.0/EN
VERSION:2.0
CALSCALE:GREGORIAN
BEGIN:VEVENT
UID:eb2b5a26d173b4106b8284f1c193ae7b
DTSTAMP:20260419T135314Z
SUMMARY:Concert: Frank London- Merlin Shepherd Group
DESCRIPTION:Jewish Federation of the Berkshires\nBerkshire Jewish Community
  Calendar\nhttps://jewishberkshires.org/jewish-federation-of-the-berkshire
 s-calendar/concert-frank-london--merlin-shepherd-group-1457119253\n\nThis 
 unique-to-Yidstock band brings together two titans of klezmer and Yiddish 
 music\, who will mix and match their styles\, which equally draw from deep
  tradition and cutting-edge innovation\, putting together a special repert
 oire with funky rhythms and plenty of improvisation. Yiddish Book Center M
 embers: $28 General Admissions: $35
DTSTART;TZID=America/New_York:20160717T150000
DTEND;TZID=America/New_York:20160717T170000
END:VEVENT
END:VCALENDAR
