BEGIN:VCALENDAR
PRODID:-//eluceo/ical//2.0/EN
VERSION:2.0
CALSCALE:GREGORIAN
BEGIN:VEVENT
UID:f8aff89c4d5f3f5faaab8d1bd6ab5c89
DTSTAMP:20260419T231346Z
SUMMARY:Concert: Eleanor Reissa
DESCRIPTION:Jewish Federation of the Berkshires\nBerkshire Jewish Community
  Calendar\nhttps://jewishberkshires.org/jewish-federation-of-the-berkshire
 s-calendar/concert-eleanor-reissa-1457118540\n\nThe Helen & Irving Sunshin
 e Memorial ConcertThe queen of Yiddish cabaret\, Eleanor Reissa is a Brook
 lyn-born native Yiddish speaker whose work in theater as a director\, acto
 r\, writer\, and choreographer garnered her a Tony Award nomination and pr
 opelled her into the front ranks of Yiddish theater and music. Reissa perf
 orms her intimate\, cabaret-style program of Yiddish favorites with an all
 -star ensemble.Yiddish Book Center Members: $28 General Admission: $35
DTSTART;TZID=America/New_York:20160715T143000
DTEND;TZID=America/New_York:20160715T163000
END:VEVENT
END:VCALENDAR
