BEGIN:VCALENDAR
PRODID:-//eluceo/ical//2.0/EN
VERSION:2.0
CALSCALE:GREGORIAN
BEGIN:VEVENT
UID:09761a979ee0206f49bf5c0385a9ce78
DTSTAMP:20260424T183712Z
SUMMARY:Concert at Hevreh
DESCRIPTION:Jewish Federation of the Berkshires\nBerkshire Jewish Community
  Calendar\nhttps://jewishberkshires.org/jewish-federation-of-the-berkshire
 s-calendar/concert-at-hevreh\n\nYom Hashoah Concert at Hevreh
DTSTART;TZID=America/New_York:20140427T160000
DTEND;TZID=America/New_York:20140427T163000
END:VEVENT
END:VCALENDAR
