BEGIN:VCALENDAR
PRODID:-//eluceo/ical//2.0/EN
VERSION:2.0
CALSCALE:GREGORIAN
BEGIN:VEVENT
UID:548286e050cea3a321d5a3ccadd92f2f
DTSTAMP:20260425T160108Z
SUMMARY:CONCERT | Tsvey Brider\, featuring Anthony Russell & Dmitri Gaskin
DESCRIPTION:Jewish Federation of the Berkshires\nBerkshire Jewish Community
  Calendar\nhttps://jewishberkshires.org/jewish-federation-of-the-berkshire
 s-calendar/concert--tsvey-brider-featuring-anthony-russell--dmitri-gaskin-
 1527871625\n\nYiddish vocalist Anthony Russell and pianist/accordionist Dm
 itri Gaskin explore diverse idioms and styles to create new music set to t
 he works of Yiddish poets.
DTSTART;TZID=America/New_York:20180713T173000
DTEND;TZID=America/New_York:20180713T184500
END:VEVENT
END:VCALENDAR
