BEGIN:VCALENDAR
PRODID:-//eluceo/ical//2.0/EN
VERSION:2.0
CALSCALE:GREGORIAN
BEGIN:VEVENT
UID:3c7647105380d88bf3dd4926b01766c3
DTSTAMP:20260422T195243Z
SUMMARY:CONCERT | Levyosn
DESCRIPTION:Jewish Federation of the Berkshires\nBerkshire Jewish Community
  Calendar\nhttps://jewishberkshires.org/jewish-federation-of-the-berkshire
 s-calendar/concert--levyosn-1714592822\n\nYidstock: The Festival of New Yi
 ddish Music is returns to the Yiddish Book Center in Amherst\, MA! Join us
  on Friday\, July 12 at 5:00 p.m. for a performance by Levyosn\, a new qua
 rtet specializing in Yiddish song and klezmer. Founded in 2021\, the band 
 takes its name from the Ashkenazi Hebrew word for the leviathan\, a mythic
 al sea creature traveling the world’s oceans collecting songs\, krill\, 
 and dreams. Levyosn’s repertoire includes traditional music and original
  songs presented in...
DTSTART;TZID=America/New_York:20240712T170000
DTEND;TZID=America/New_York:20240712T180000
END:VEVENT
END:VCALENDAR
