BEGIN:VCALENDAR
PRODID:-//eluceo/ical//2.0/EN
VERSION:2.0
CALSCALE:GREGORIAN
BEGIN:VEVENT
UID:1c97d06023df570add7b1b4fea6ce35e
DTSTAMP:20260421T234018Z
SUMMARY:CONCERT | David Krakauer's Acoustic Klezmer Quartet
DESCRIPTION:Jewish Federation of the Berkshires\nBerkshire Jewish Community
  Calendar\nhttps://jewishberkshires.org/jewish-federation-of-the-berkshire
 s-calendar/concert--david-krakauers-acoustic-klezmer-quartet-1527708977\n\
 nDelight in a performance emphasizing the beauty of traditional klezmer da
 nce tunes\, ritual songs\, and reflective melodies.
DTSTART;TZID=America/New_York:20180712T200000
DTEND;TZID=America/New_York:20180712T213000
END:VEVENT
END:VCALENDAR
