BEGIN:VCALENDAR
PRODID:-//eluceo/ical//2.0/EN
VERSION:2.0
CALSCALE:GREGORIAN
BEGIN:VEVENT
UID:8b209e6b0ea414e8522bb363c5bab763
DTSTAMP:20260422T195810Z
SUMMARY:Concert & Afternoon Tea featuring Seth Josel & Lucia Mense
DESCRIPTION:Jewish Federation of the Berkshires\nBerkshire Jewish Community
  Calendar\nhttps://jewishberkshires.org/jewish-federation-of-the-berkshire
 s-calendar/concert--afternoon-tea-featuring-seth-josel--lucia-mense-172167
 2848\n\nConcert and Afternoon Tea is a Benefit for Hevreh of Southern Berk
 shire\, featuring Medieval\, Renaissance\, and Baroque music by diverse co
 mposers such as Hildegard von Bingen\, Bach\, Handel\, and Telemann\; perf
 ormed by Lucia Mense and Seth Josel.
DTSTART;TZID=America/New_York:20240730T160000
DTEND;TZID=America/New_York:20240730T180000
END:VEVENT
END:VCALENDAR
