BEGIN:VCALENDAR
PRODID:-//eluceo/ical//2.0/EN
VERSION:2.0
CALSCALE:GREGORIAN
BEGIN:VEVENT
UID:e8b56e779437eec91b6993f6f7b2c94f
DTSTAMP:20260421T114408Z
SUMMARY:Comparing Jewish Resources on the Genealogy "Giant" Websites
DESCRIPTION:Jewish Federation of the Berkshires\nBerkshire Jewish Community
  Calendar\nhttps://jewishberkshires.org/jewish-federation-of-the-berkshire
 s-calendar/comparing-jewish-resources-on-the-genealogy-giant-websites\n\nV
 ia Zoom\n\nRegister Here\n\nEnjoy this comparative overview of Jewish reco
 rd collections and research tools found on the global powerhouse\nwebsites
  referred to as “Genealogy Giants.” Comparing Ancestry\, FamilySearch\
 , FindMyPast\, and MyHeritage.\n\nLed by professional Jewish genealogist E
 llen Kowitt\, this lecture includes many substantive record examples. Lear
 n how each site can be helpful for documenting Jewish families and get tip
 s on each site’s best features or challenges. Current ...
DTSTART;TZID=America/New_York:20220404T184500
DTEND;TZID=America/New_York:20220404T194500
END:VEVENT
END:VCALENDAR
