BEGIN:VCALENDAR
PRODID:-//eluceo/ical//2.0/EN
VERSION:2.0
CALSCALE:GREGORIAN
BEGIN:VEVENT
UID:6efd103739498891964a3b7bf31083bb
DTSTAMP:20260424T105946Z
SUMMARY:Community Shabbat at Hevreh
DESCRIPTION:Jewish Federation of the Berkshires\nBerkshire Jewish Community
  Calendar\nhttps://jewishberkshires.org/jewish-federation-of-the-berkshire
 s-calendar/community-shabbat-at-hevreh-1669234983\n\nCome join the Hevreh 
 community in our revived community supper. This event is free and open to 
 the public\, but we are requesting a reservation be made so we know how mu
 ch food to order. Rabbis Niel Hirsch and Jodie Gordon will conduct a short
  Shabbat service followed by a sit down meal.
DTSTART;TZID=America/New_York:20221209T060000
DTEND;TZID=America/New_York:20221209T080000
END:VEVENT
END:VCALENDAR
