BEGIN:VCALENDAR
PRODID:-//eluceo/ical//2.0/EN
VERSION:2.0
CALSCALE:GREGORIAN
BEGIN:VEVENT
UID:3a0c17a27f565d0477d4872238bac928
DTSTAMP:20260423T051003Z
SUMMARY:Community Open House at the Yiddish Book Center
DESCRIPTION:Jewish Federation of the Berkshires\nBerkshire Jewish Community
  Calendar\nhttps://jewishberkshires.org/jewish-federation-of-the-berkshire
 s-calendar/community-open-house-at-the-yiddish-book-center-1554840918\n\nA
  day of events featuring the 2019 Melinda Rosenblatt Lecture with Pamela N
 adell\, an exhibit opening\, tours\, and more.
DTSTART;TZID=America/New_York:20190428T100000
DTEND;TZID=America/New_York:20190428T160000
END:VEVENT
END:VCALENDAR
