BEGIN:VCALENDAR
PRODID:-//eluceo/ical//2.0/EN
VERSION:2.0
CALSCALE:GREGORIAN
BEGIN:VEVENT
UID:c0e2e7d4d15f63ee45a5e8e7eb3223cb
DTSTAMP:20260420T044239Z
SUMMARY:Community Open House at the Yiddish Book Center
DESCRIPTION:Jewish Federation of the Berkshires\nBerkshire Jewish Community
  Calendar\nhttps://jewishberkshires.org/jewish-federation-of-the-berkshire
 s-calendar/community-open-house-at-the-yiddish-book-center-1505422367\n\nA
  day of activities for the whole family featuring The Sarah Rose Lazarus F
 amily Concert with the Yiddishkeit Klezmer Ensemble\, a gallery talk by Ma
 rk Podwal\, tours\, and more.
DTSTART;TZID=America/New_York:20171022T100000
DTEND;TZID=America/New_York:20171022T160000
END:VEVENT
END:VCALENDAR
