BEGIN:VCALENDAR
PRODID:-//eluceo/ical//2.0/EN
VERSION:2.0
CALSCALE:GREGORIAN
BEGIN:VEVENT
UID:614830d9bf9fe59920f738bf3a1a7c42
DTSTAMP:20260421T193650Z
SUMMARY:Community Open House at the Yiddish Book Center
DESCRIPTION:Jewish Federation of the Berkshires\nBerkshire Jewish Community
  Calendar\nhttps://jewishberkshires.org/jewish-federation-of-the-berkshire
 s-calendar/community-open-house-at-the-yiddish-book-center-1471635520\n\nJ
 oin us for a day of events for the whole family.Featuring The Sarah Rose L
 azarus Family Concert:  Di Shekhter-tekhter: The Schaechter Sisters and Bi
 nyumenAll events are free and open to the public.Schedule11 a.m. | The Wex
 ler Oral History Project Presents...studio oral historyScreening and discu
 ssion of two short films made by the Center's Wexler Oral History Project:
  Leonard Nimoy's Mame-loshn: A Yiddish Story and Alter Esselin: Craftsman 
 of Wood and Words11am & 1pm |Tour the world's first ...
DTSTART;TZID=America/New_York:20161023T100000
DTEND;TZID=America/New_York:20161023T160000
END:VEVENT
END:VCALENDAR
