BEGIN:VCALENDAR
PRODID:-//eluceo/ical//2.0/EN
VERSION:2.0
CALSCALE:GREGORIAN
BEGIN:VEVENT
UID:571b9b773f85ace6a20a0dffd375320b
DTSTAMP:20260421T174617Z
SUMMARY:FILM: GI Jews
DESCRIPTION:Jewish Federation of the Berkshires\nBerkshire Jewish Community
  Calendar\nhttps://jewishberkshires.org/jewish-federation-of-the-berkshire
 s-calendar/community-film-screening-of-gi-jews\n\nGI JEWS: Jewish American
 s in World War II tells the profound and unique story of the 550\,000 Jewi
 sh Americans who served their country in all branches of the military duri
 ng World War II.
DTSTART;TZID=America/New_York:20180325T140000
DTEND;TZID=America/New_York:20180325T160000
END:VEVENT
END:VCALENDAR
