BEGIN:VCALENDAR
PRODID:-//eluceo/ical//2.0/EN
VERSION:2.0
CALSCALE:GREGORIAN
BEGIN:VEVENT
UID:b56ce194d98e3bd36cf7d1beedd3aa55
DTSTAMP:20260424T063602Z
SUMMARY:Jewish Community Day at High Lawn Farm 2024
DESCRIPTION:Jewish Federation of the Berkshires\nBerkshire Jewish Community
  Calendar\nhttps://jewishberkshires.org/jewish-federation-of-the-berkshire
 s-calendar/community-day-at-high-lawn-farm-2024\n\nCelebrate a Vibrant\, 
 Secure\, and Caring Jewish Community.\n\nJoin us in celebrating our Jewish
  heritage\, culture\, and faith. Federation kicks off its 2024 community c
 ampaign with a fun-filled day of ice cream\, cows\, baby animals\, crafts\
 , community tables\, raffles\, music\, and so much more! New this year: We
  will toast l’chayim with a real MILK BAR serving fantastical milk-based
  treats and celebrate PJ Library’s 18th birthday!  Participants will a
 lso have the opportunity to send messages...
DTSTART;TZID=America/New_York:20240519T140000
DTEND;TZID=America/New_York:20240519T160000
END:VEVENT
END:VCALENDAR
