BEGIN:VCALENDAR
PRODID:-//eluceo/ical//2.0/EN
VERSION:2.0
CALSCALE:GREGORIAN
BEGIN:VEVENT
UID:7d2653b557b0ad32681433bba9c38774
DTSTAMP:20260420T075632Z
SUMMARY:Community Chanukah Concert with David Grover
DESCRIPTION:Jewish Federation of the Berkshires\nBerkshire Jewish Community
  Calendar\nhttps://jewishberkshires.org/jewish-federation-of-the-berkshire
 s-calendar/community-chanukah-concert-with-david-grover\n\nCommunity Chanu
 kah Concert with David Grover
DTSTART;TZID=America/New_York:20151213T110000
DTEND;TZID=America/New_York:20151213T130000
END:VEVENT
END:VCALENDAR
