BEGIN:VCALENDAR
PRODID:-//eluceo/ical//2.0/EN
VERSION:2.0
CALSCALE:GREGORIAN
BEGIN:VEVENT
UID:544433d5fdc52030936a24827fcb3083
DTSTAMP:20260425T180713Z
SUMMARY:Common Ground: A celebration of Jazz and Jewish music
DESCRIPTION:Jewish Federation of the Berkshires\nBerkshire Jewish Community
  Calendar\nhttps://jewishberkshires.org/jewish-federation-of-the-berkshire
 s-calendar/common-ground-a-celebration-of-jazz-and-jewish-music-1554827650
 \n\nRenowned jazz singer Wanda Houston and clarinetist Paul Green will pre
 sent a program that fuses jazz and Jewish music and reflects the longstand
 ing fellowship between the African American and Jewish communities. The co
 ncert is a benefit for Clinton Church Restoration\, which is restoring and
  repurposing the historic Clinton A.M.E. Zion Church in downtown Great Bar
 rington as an African American heritage site\, visitor center and communit
 y space. A reception will follow the program.
DTSTART;TZID=America/New_York:20190609T190000
DTEND;TZID=America/New_York:20190609T210000
END:VEVENT
END:VCALENDAR
