BEGIN:VCALENDAR
PRODID:-//eluceo/ical//2.0/EN
VERSION:2.0
CALSCALE:GREGORIAN
BEGIN:VEVENT
UID:3edf229d3f1baa85a38e1815df30fa80
DTSTAMP:20260424T041016Z
SUMMARY:Co-Sponsored by JFB - Distinguished Lecture Series
DESCRIPTION:Jewish Federation of the Berkshires\nBerkshire Jewish Community
  Calendar\nhttps://jewishberkshires.org/jewish-federation-of-the-berkshire
 s-calendar/co-sponsored-by-jfb-distinguished-lecture-series\n\nDistinguish
 ed Lecture Series  featuring Professor Stephen Berk\, Professor of Holocau
 st and Jewish Studies\, Union College. 
DTSTART;TZID=America/New_York:20150517T160000
DTEND;TZID=America/New_York:20150517T180000
END:VEVENT
END:VCALENDAR
