BEGIN:VCALENDAR
PRODID:-//eluceo/ical//2.0/EN
VERSION:2.0
CALSCALE:GREGORIAN
BEGIN:VEVENT
UID:91a2d0ce676b10897ce41627423cc9f1
DTSTAMP:20260423T170331Z
SUMMARY:Class Series: Mysticism of the Aleph-Bet
DESCRIPTION:Jewish Federation of the Berkshires\nBerkshire Jewish Community
  Calendar\nhttps://jewishberkshires.org/jewish-federation-of-the-berkshire
 s-calendar/class-series-mysticism-of-the-aleph-bet\n\nMyst. of Aleph Bet
DTSTART;TZID=America/New_York:20131107T120000
DTEND;TZID=America/New_York:20131219T133000
END:VEVENT
END:VCALENDAR
