BEGIN:VCALENDAR
PRODID:-//eluceo/ical//2.0/EN
VERSION:2.0
CALSCALE:GREGORIAN
BEGIN:VEVENT
UID:c8b0555a602351cad23b531f4edd6227
DTSTAMP:20260420T175711Z
SUMMARY:Choices
DESCRIPTION:Jewish Federation of the Berkshires\nBerkshire Jewish Community
  Calendar\nhttps://jewishberkshires.org/jewish-federation-of-the-berkshire
 s-calendar/choices-1449591573\n\nCHOICES with author Don Drake\n\na play c
 o-produced by Knesset Israel and Temple Anshe Amunim\n\nAdmission $20.00\n
 \nConjoined twins share a single heart that can support only one of them. 
 The very religious Jewish parents debate whether it is a sin to sacrifice 
 one twin to save the other.
DTSTART;TZID=America/New_York:20160822T190000
DTEND;TZID=America/New_York:20160822T213000
END:VEVENT
END:VCALENDAR
