BEGIN:VCALENDAR
PRODID:-//eluceo/ical//2.0/EN
VERSION:2.0
CALSCALE:GREGORIAN
BEGIN:VEVENT
UID:84f580eeb976bc7c1782d8400c221f30
DTSTAMP:20260423T003323Z
SUMMARY:Chanukah Havdalah and  Open Mic Night
DESCRIPTION:Jewish Federation of the Berkshires\nBerkshire Jewish Community
  Calendar\nhttps://jewishberkshires.org/jewish-federation-of-the-berkshire
 s-calendar/chanukah-havdalah-and--open-mic-night-1607111527\n\nJoin us via
  Zoom to celebrate the end of Shabbat and Chanukah and then stay for an op
 en mic night. All are welcome to enjoy the fun whether to enjoy the perfor
 mances or share your talent.\n\nRegister at :tinyurl.com/ChanukahHavdalah
DTSTART;TZID=America/New_York:20201212T190000
DTEND;TZID=America/New_York:20201212T210000
END:VEVENT
END:VCALENDAR
