BEGIN:VCALENDAR
PRODID:-//eluceo/ical//2.0/EN
VERSION:2.0
CALSCALE:GREGORIAN
BEGIN:VEVENT
UID:b8165cc13a0a738d101119d21ade2c74
DTSTAMP:20260420T200654Z
SUMMARY:Chanukah Family Festival
DESCRIPTION:Jewish Federation of the Berkshires\nBerkshire Jewish Community
  Calendar\nhttps://jewishberkshires.org/jewish-federation-of-the-berkshire
 s-calendar/chanukah-family-festival-1733172215\n\nChanukah Family Festival
  Lilac Park Downtown Lenox Public Menorah Lighting! Music! Fire Show! Chan
 ukah Delicacies!
DTSTART;TZID=America/New_York:20241225T163000
DTEND;TZID=America/New_York:20241225T173000
END:VEVENT
END:VCALENDAR
