BEGIN:VCALENDAR
PRODID:-//eluceo/ical//2.0/EN
VERSION:2.0
CALSCALE:GREGORIAN
BEGIN:VEVENT
UID:467850221101f1c0edff3f53d16cdff1
DTSTAMP:20260421T084021Z
SUMMARY:Chanukah Family Festival
DESCRIPTION:Jewish Federation of the Berkshires\nBerkshire Jewish Community
  Calendar\nhttps://jewishberkshires.org/jewish-federation-of-the-berkshire
 s-calendar/chanukah-family-festival-1478015937\n\nChanukah Family Festival
 \nBerkshire Mall\nLanesboro Massachusetts
DTSTART;TZID=America/New_York:20161226T160000
DTEND;TZID=America/New_York:20161226T173000
END:VEVENT
END:VCALENDAR
