BEGIN:VCALENDAR
PRODID:-//eluceo/ical//2.0/EN
VERSION:2.0
CALSCALE:GREGORIAN
BEGIN:VEVENT
UID:1744cda4a989e7b786e88f6e0ebb6f82
DTSTAMP:20260422T101237Z
SUMMARY:Chant and Chocolate
DESCRIPTION:Jewish Federation of the Berkshires\nBerkshire Jewish Community
  Calendar\nhttps://jewishberkshires.org/jewish-federation-of-the-berkshire
 s-calendar/chant-and-chocolate-1722006675\n\nOur next "Chant and Chocolate
 " circle will take place on August 20th at 1:30. August is akin to the Heb
 rew month of Elul\, the time when traditionally we begin to assess and re-
 assess our lives throughout the previous year. Our chant circle will focus
  on this Kavannah (intention) using chants about yearning souls\, filling 
 internal and external space - Mishkan - with Holy Presence\, opening up th
 e gates of righteousness\, untangling our tangles\, and of course\, healin
 g. The next chant circle in Se...
DTSTART;TZID=America/New_York:20240820T133000
DTEND;TZID=America/New_York:20240820T150000
END:VEVENT
END:VCALENDAR
