BEGIN:VCALENDAR
PRODID:-//eluceo/ical//2.0/EN
VERSION:2.0
CALSCALE:GREGORIAN
BEGIN:VEVENT
UID:81a424f746d7d41e614a48b3fe24de9c
DTSTAMP:20260422T221605Z
SUMMARY:Chant and Chocolate
DESCRIPTION:Jewish Federation of the Berkshires\nBerkshire Jewish Community
  Calendar\nhttps://jewishberkshires.org/jewish-federation-of-the-berkshire
 s-calendar/chant-and-chocolate-1715973548\n\nChant for love\, peace\, heal
 ing\, renewal and hope with Eva Friedner\, Chant Leader since 2006.\n\nBri
 ng your voice and intention to experience the deep relaxation of mind\, bo
 dy and soul through chant. Connect energetically to our inner being\, to e
 ach other\, to the earth and to all humanity. Notice how pain\, tension\, 
 and emotional stress disappear. Indulge in a chocolate treat for spiritual
  sweetness.\n\n*No previous singing or chanting experience necessary.\n\nR
 egistration is required: tinyurl....
DTSTART;TZID=America/New_York:20240612T193000
DTEND;TZID=America/New_York:20240612T210000
END:VEVENT
END:VCALENDAR
