BEGIN:VCALENDAR
PRODID:-//eluceo/ical//2.0/EN
VERSION:2.0
CALSCALE:GREGORIAN
BEGIN:VEVENT
UID:232026372ad65f2462c94db88af22723
DTSTAMP:20260419T145340Z
SUMMARY:Champagne and Chocolate Elegant Art Sale
DESCRIPTION:Jewish Federation of the Berkshires\nBerkshire Jewish Community
  Calendar\nhttps://jewishberkshires.org/jewish-federation-of-the-berkshire
 s-calendar/champagne-and-chocolate-elegant-art-sale\n\nChampagne and Choco
 late Elegant Art Sale
DTSTART;TZID=America/New_York:20130630T110000
DTEND;TZID=America/New_York:20130630T150000
END:VEVENT
END:VCALENDAR
