BEGIN:VCALENDAR
PRODID:-//eluceo/ical//2.0/EN
VERSION:2.0
CALSCALE:GREGORIAN
BEGIN:VEVENT
UID:2ae3fa9aa1061c06c485c357ed64bffc
DTSTAMP:20260421T231841Z
SUMMARY:Cancelled: Chair Yoga: Flexibility\, Mobility and Peace of Mind
DESCRIPTION:Jewish Federation of the Berkshires\nBerkshire Jewish Community
  Calendar\nhttps://jewishberkshires.org/jewish-federation-of-the-berkshire
 s-calendar/chair-yoga-flexibility-mobility-and-peace-of-mind\n\nChair Yoga
  is appropriate for people of all levels of mobility. 
DTSTART;TZID=America/New_York:20200413T104500
DTEND;TZID=America/New_York:20200413T120000
END:VEVENT
END:VCALENDAR
