BEGIN:VCALENDAR
PRODID:-//eluceo/ical//2.0/EN
VERSION:2.0
CALSCALE:GREGORIAN
BEGIN:VEVENT
UID:aafab7f3a2cff0340d833865b4696b7a
DTSTAMP:20260421T114348Z
SUMMARY:Chai Tea sponsored by Berkshire Hills Hadassah
DESCRIPTION:Jewish Federation of the Berkshires\nBerkshire Jewish Community
  Calendar\nhttps://jewishberkshires.org/jewish-federation-of-the-berkshire
 s-calendar/chai-tea-sponsored-by-berkshire-hill-hadassah-1513106458\n\nCha
 i Tea sponsored by Berkshire Hills Hadassah is open to Hadassah members an
 d non-members. Everyone is invited to bring a dish for a Pot Luck Lunch.
DTSTART;TZID=America/New_York:20180710T120000
DTEND;TZID=America/New_York:20180710T140000
END:VEVENT
END:VCALENDAR
