BEGIN:VCALENDAR
PRODID:-//eluceo/ical//2.0/EN
VERSION:2.0
CALSCALE:GREGORIAN
BEGIN:VEVENT
UID:36525745ec26b65575ada3429dc2eb02
DTSTAMP:20260422T234227Z
SUMMARY:Chabad of the Berkshires
DESCRIPTION:Jewish Federation of the Berkshires\nBerkshire Jewish Community
  Calendar\nhttps://jewishberkshires.org/jewish-federation-of-the-berkshire
 s-calendar/chabad-of-the-berkshires-1415897500\n\nChabad Event
DTSTART;TZID=America/New_York:20150712T180000
DTEND;TZID=America/New_York:20150712T210000
END:VEVENT
END:VCALENDAR
