BEGIN:VCALENDAR
PRODID:-//eluceo/ical//2.0/EN
VERSION:2.0
CALSCALE:GREGORIAN
BEGIN:VEVENT
UID:091f2766e2a62c35de84cffc0127f9a4
DTSTAMP:20260423T192132Z
SUMMARY:“Cemetery Records and Their Importance in Jewish Genealogy”\, N
 olan Altman
DESCRIPTION:Jewish Federation of the Berkshires\nBerkshire Jewish Community
  Calendar\nhttps://jewishberkshires.org/jewish-federation-of-the-berkshire
 s-calendar/cemetery-records-and-their-importance-in-jewish-genealogy-nolan
 -altman-1508211961\n\nTopic: “Cemetery Records and Their Importance in J
 ewish Genealogy”\n\nSpeaker: Nolan Altman\n- Board member of the Interna
 tional Association of Jewish Genealogical Societies (IAJGS)\n- Coordinator
  of JewishGen’s Worldwide Burial Registry project.\n\nSummary:\nNolan wi
 ll discuss how cemetery records can provide insight into the evolution of\
 nfamily naming conventions\, serving as a valuable resource to connect gen
 erations of ancestors.\nHe will explain the significance of many symbols t
 ha...
DTSTART;TZID=America/New_York:20171022T100000
DTEND;TZID=America/New_York:20171022T120000
END:VEVENT
END:VCALENDAR
