BEGIN:VCALENDAR
PRODID:-//eluceo/ical//2.0/EN
VERSION:2.0
CALSCALE:GREGORIAN
BEGIN:VEVENT
UID:3a17ad48f6c972cef5774b5a26c718e6
DTSTAMP:20260419T203450Z
SUMMARY:Celebrate Tu B'Shevat with PJ Library
DESCRIPTION:Jewish Federation of the Berkshires\nBerkshire Jewish Community
  Calendar\nhttps://jewishberkshires.org/jewish-federation-of-the-berkshire
 s-calendar/celebrate-tu-bshevat-with-pj-library\n\nPJ Llibrary invites you
  to celebrate Tu B'Shevat\, the birthday of the trees\, with nature inspir
 ed movement\, crafts\, and of course\, cupcakes!\n\nAll ages welcome!\n\nP
 lease RSVP to mmeador@jewishberkshires.org
DTSTART;TZID=America/New_York:20230129T143000
DTEND;TZID=America/New_York:20230129T160000
END:VEVENT
END:VCALENDAR
