BEGIN:VCALENDAR
PRODID:-//eluceo/ical//2.0/EN
VERSION:2.0
CALSCALE:GREGORIAN
BEGIN:VEVENT
UID:cfa7f6471bf32ac66a19c64030d198a9
DTSTAMP:20260422T052518Z
SUMMARY:Celebrate Shavuot with Temple Anshe Amunim
DESCRIPTION:Jewish Federation of the Berkshires\nBerkshire Jewish Community
  Calendar\nhttps://jewishberkshires.org/jewish-federation-of-the-berkshire
 s-calendar/celebrate-shavuot-with-temple-anshe-amunim-1524673757\n\nJoin R
 abbi Josh for a lively and light-hearted reading of the Book of Ruth in En
 glish.  A streamlined  festival morning service will follow.  Together we 
 will welcome the festival with prayer\, song and study. 
DTSTART;TZID=America/New_York:20180520T093000
DTEND;TZID=America/New_York:20180520T113000
END:VEVENT
END:VCALENDAR
