BEGIN:VCALENDAR
PRODID:-//eluceo/ical//2.0/EN
VERSION:2.0
CALSCALE:GREGORIAN
BEGIN:VEVENT
UID:175c41446b8023b9d603cc63d07dcbd5
DTSTAMP:20260424T234847Z
SUMMARY:Celebrate Shavuot with Temple Anshe Amunim
DESCRIPTION:Jewish Federation of the Berkshires\nBerkshire Jewish Community
  Calendar\nhttps://jewishberkshires.org/jewish-federation-of-the-berkshire
 s-calendar/celebrate-shavuot-with-temple-anshe-amunim-1494345444\n\nRabbi 
 Josh will lead a guided reading in English of the story of Ruth at 9:30 a.
 m. and discuss its relevance in the modern day.  Services including a Yizk
 or service will follow at 10:45 a.m. and will conclude shortly after noon.
  
DTSTART;TZID=America/New_York:20170531T093000
DTEND;TZID=America/New_York:20170531T120000
END:VEVENT
END:VCALENDAR
