BEGIN:VCALENDAR
PRODID:-//eluceo/ical//2.0/EN
VERSION:2.0
CALSCALE:GREGORIAN
BEGIN:VEVENT
UID:7a71656707fac4043f4d6573ecdfb9cc
DTSTAMP:20260421T231821Z
SUMMARY:Celebrate Rosh Hashanah's Second Day in Nature with Temple Anshe Am
 unim
DESCRIPTION:Jewish Federation of the Berkshires\nBerkshire Jewish Community
  Calendar\nhttps://jewishberkshires.org/jewish-federation-of-the-berkshire
 s-calendar/celebrate-rosh-hashanahs-second-day-in-nature-with-temple-anshe
 -amunim-1411064659\n\nCelebrate Rosh Hashanah’s Second Day In Nature!Fri
 day September 26 at 10:30am. Pleasant Valley Wildlife Sanctuary (427 West 
 Mountain Road\, Lenox). Open to everyone! On the Jewish New Year\, we cele
 brate the beauty of the world and renew our roots in nature. Join Aliza Be
 rger and Rabbi Josh for a reflective and refreshing New Year's service! Af
 ter worship and stories at the lecture hall\, we'll join in a guided natur
 e walk (weather permitting). We'll conclude with a picnic and blessing at 
 the ...
DTSTART;TZID=America/New_York:20140926T103000
DTEND;TZID=America/New_York:20140926T123000
END:VEVENT
END:VCALENDAR
